BEGIN:VCALENDAR
VERSION:2.0
PRODID:-//Plone.org//NONSGML plone.app.event//EN
X-WR-TIMEZONE:Europe/Rome
BEGIN:VEVENT
SUMMARY:RisoAmica\, il percorso di educazione alla risonanza magnetica ded
 icato ai pazienti pediatrici\, apre le porte a tutti gli operatori sanitar
 i dell’area pediatrica
DTSTART;VALUE=DATE-TIME:20220919T130000Z
DTEND;VALUE=DATE-TIME:20220919T150000Z
DTSTAMP;VALUE=DATE-TIME:20260420T042209Z
UID:ca80304974949b1bdc62a22dec92f839@127.0.0.1:8095
CREATED;VALUE=DATE-TIME:20220902T073031Z
DESCRIPTION:Il 19 settembre e il 24 ottobre\, Open day alla Tribù di Bimb
 o tu\, padiglione A dell’Ospedale Bellaria.
LAST-MODIFIED;VALUE=DATE-TIME:20250107T140413Z
URL:https://www.ausl.bologna.it/eventi/archivio/auslevent.2022-09-02.45397
 19970
END:VEVENT
END:VCALENDAR
