BEGIN:VCALENDAR
VERSION:2.0
PRODID:-//Plone.org//NONSGML plone.app.event//EN
X-WR-TIMEZONE:Europe/Rome
BEGIN:VEVENT
SUMMARY:Pandemie e profezie: quando il Passato si fa Presente
DTSTART;VALUE=DATE-TIME:20220615T183000Z
DTEND;VALUE=DATE-TIME:20220615T210000Z
DTSTAMP;VALUE=DATE-TIME:20260420T031111Z
UID:960cb4a2c1defd4b29f2e1a75a2715dd@127.0.0.1:8095
ATTENDEE;CN="Gelorma Bemonte, pneumologa e internista AUSL Bologna; Marica
  Carone, grecista docente dell'Ist Keynes di Castel Maggiore; Riccardo Mar
 chetti, Assessore Cultura Comune di San Pietro in Casale; Raffaella Raimon
 di, Assessore Scuola Politiche Sociali Legalità Comune d San Pietro in Ca
 sale";ROLE=REQ-PARTICIPANT:Gelorma Bemonte, pneumologa e internista AUSL B
 ologna; Marica Carone, grecista docente dell'Ist Keynes di Castel Maggiore
 ; Riccardo Marchetti, Assessore Cultura Comune di San Pietro in Casale; Ra
 ffaella Raimondi, Assessore Scuola Politiche Sociali Legalità Comune d Sa
 n Pietro in Casale
CATEGORIES:Incontro pubblico
CONTACT:3471702942\, collettivoamalia@gmail.com
CREATED;VALUE=DATE-TIME:20220614T084256Z
DESCRIPTION:Il 15 giugno alle ore 20.30 un conferecital a San Pietro in Ca
 sale presso il Parco Museo Casa Frabboni
LAST-MODIFIED;VALUE=DATE-TIME:20250107T140414Z
LOCATION:Parco Museo Casa Frabboni di San Pietro in Casale
URL:https://www.ausl.bologna.it/eventi/archivio/auslevent.2022-06-14.75037
 04810
END:VEVENT
END:VCALENDAR
