BEGIN:VCALENDAR
VERSION:2.0
PRODID:-//Plone.org//NONSGML plone.app.event//EN
X-WR-TIMEZONE:Europe/Rome
BEGIN:VEVENT
SUMMARY:La bioginnastica per il pavimento pelvico
DTSTART;VALUE=DATE-TIME:20220622T080000Z
DTEND;VALUE=DATE-TIME:20220622T090000Z
DTSTAMP;VALUE=DATE-TIME:20260420T031111Z
UID:5153580f41e11e834bece150ceb1fa60@127.0.0.1:8095
ATTENDEE;CN="Federica Armaroli, insegnante di bioginnastica";ROLE=REQ-PART
 ICIPANT:Federica Armaroli, insegnante di bioginnastica
CATEGORIES:Incontri per la salute
CONTACT:0514966178\, donnealcentro@komen.it
CREATED;VALUE=DATE-TIME:20220610T080117Z
DESCRIPTION:Il 22 giugno\, un evento in presenza nell'ambito di “Donne a
 l Centro”\, per favorire un ruolo attivo nel processo di guarigione e re
 cupero del benessere psicofisico durante e dopo i trattamenti oncologici
LAST-MODIFIED;VALUE=DATE-TIME:20250107T140414Z
LOCATION:Ospedale Bellaria presso la sede di Donne al Centro
URL:https://www.ausl.bologna.it/eventi/archivio/auslevent.2022-06-10.70159
 93906
END:VEVENT
END:VCALENDAR
