BEGIN:VCALENDAR
VERSION:2.0
PRODID:-//Plone.org//NONSGML plone.app.event//EN
X-WR-TIMEZONE:Europe/Rome
BEGIN:VEVENT
SUMMARY:I trattamenti integrati in oncologia\, l’esperienza del Centro K
 omen Italia – Fondazione Policlinico Gemelli
DTSTART;VALUE=DATE-TIME:20220613T150000Z
DTEND;VALUE=DATE-TIME:20220613T163000Z
DTSTAMP;VALUE=DATE-TIME:20260420T031024Z
UID:646183afddb2264828ac621b2cca96cc@127.0.0.1:8095
ATTENDEE;CN="Stefano Magno, senologo responsabile del Servizio di Terapie 
 Integrate della Fondazione Policlinico Gemelli di Roma IRCCS";ROLE=REQ-PAR
 TICIPANT:Stefano Magno, senologo responsabile del Servizio di Terapie Inte
 grate della Fondazione Policlinico Gemelli di Roma IRCCS
CATEGORIES:Webinar
CONTACT:0514966178\, donnealcentro@komen.it
CREATED;VALUE=DATE-TIME:20220606T104530Z
DESCRIPTION:Un evento in webinar. Nell'ambito di “Donne al Centro”\, p
 er favorire un ruolo attivo nel processo di guarigione e recupero del bene
 ssere psicofisico durante e dopo i trattamenti oncologici
LAST-MODIFIED;VALUE=DATE-TIME:20250107T140414Z
LOCATION:webinar
URL:https://www.ausl.bologna.it/eventi/archivio/auslevent.2022-06-06.73680
 19212
END:VEVENT
END:VCALENDAR
