BEGIN:VCALENDAR
VERSION:2.0
PRODID:-//Plone.org//NONSGML plone.app.event//EN
X-WR-TIMEZONE:Europe/Rome
BEGIN:VEVENT
SUMMARY:Assistenza all'ictus: a che punto siamo a 30 anni dalla nascita de
 ll'EBM
DTSTART;VALUE=DATE-TIME:20220524T120000Z
DTEND;VALUE=DATE-TIME:20220524T160000Z
DTSTAMP;VALUE=DATE-TIME:20260420T031024Z
UID:65fe52ecfbf721be106ce096e560f925@127.0.0.1:8095
CREATED;VALUE=DATE-TIME:20220520T071859Z
DESCRIPTION:Evento in ricordo di Alessandro Liberati
LAST-MODIFIED;VALUE=DATE-TIME:20250107T140414Z
LOCATION:online
URL:https://www.ausl.bologna.it/eventi/archivio/auslevent.2022-05-20.83898
 86108
END:VEVENT
END:VCALENDAR
