BEGIN:VCALENDAR
VERSION:2.0
PRODID:-//Plone.org//NONSGML plone.app.event//EN
X-WR-TIMEZONE:Europe/Rome
BEGIN:VEVENT
SUMMARY:Open Space Technology - priorità e bisogni di ricerca sanitaria s
 ul territorio
DTSTART;VALUE=DATE-TIME:20220601T070000Z
DTEND;VALUE=DATE-TIME:20220601T141500Z
DTSTAMP;VALUE=DATE-TIME:20260420T031111Z
UID:2944249019e464d0a85b3f3989d649cf@127.0.0.1:8095
CREATED;VALUE=DATE-TIME:20220520T070923Z
DESCRIPTION:Convegno
LAST-MODIFIED;VALUE=DATE-TIME:20250107T140413Z
LOCATION:Terza torre Regione Emilia-Romagna viale della fiera 8 - Bologna 
 sala A - XX maggio
URL:https://www.ausl.bologna.it/eventi/archivio/auslevent.2022-05-20.39391
 56867
END:VEVENT
END:VCALENDAR
