BEGIN:VCALENDAR
VERSION:2.0
PRODID:-//Plone.org//NONSGML plone.app.event//EN
X-WR-TIMEZONE:Europe/Rome
BEGIN:VEVENT
SUMMARY:Quanto incide la masticazione sul nostro stato di salute fisica
DTSTART;VALUE=DATE-TIME:20220523T153000Z
DTEND;VALUE=DATE-TIME:20220523T170000Z
DTSTAMP;VALUE=DATE-TIME:20260420T031111Z
UID:766294a3d4a21d0942bd3ee7e84398f0@127.0.0.1:8095
ATTENDEE;CN="Piero Malpezzi, medico dentista gnatologo specializzato in di
 sturbi dell'articolazione temporo mandibolare";ROLE=REQ-PARTICIPANT:Piero 
 Malpezzi, medico dentista gnatologo specializzato in disturbi dell'articol
 azione temporo mandibolare
CATEGORIES:Incontri per la salute
CONTACT:0514966178\, donnealcentro@komen.it
CREATED;VALUE=DATE-TIME:20220516T090048Z
DESCRIPTION:Il 23 maggio\, un appuntamento in presenza
LAST-MODIFIED;VALUE=DATE-TIME:20250107T140413Z
LOCATION:Spazio polifunzionale di Donne al Centro
URL:https://www.ausl.bologna.it/eventi/archivio/auslevent.2022-05-16.22539
 87522
END:VEVENT
END:VCALENDAR
