BEGIN:VCALENDAR
VERSION:2.0
PRODID:-//Plone.org//NONSGML plone.app.event//EN
X-WR-TIMEZONE:Europe/Rome
BEGIN:VEVENT
SUMMARY:Il risveglio dei sensi
DTSTART;VALUE=DATE-TIME:20220514T080000Z
DTEND;VALUE=DATE-TIME:20220514T130000Z
DTSTAMP;VALUE=DATE-TIME:20260420T031024Z
UID:d791fd5e34fa9e1baa6fd85e71d07e26@127.0.0.1:8095
CONTACT:3404537183\, komenemiliaromagna@komen.it
CREATED;VALUE=DATE-TIME:20220504T101223Z
DESCRIPTION:Un evento il 14 maggio presso Corte d'Aibo
LAST-MODIFIED;VALUE=DATE-TIME:20250107T140413Z
LOCATION:Corte d'Aibo
URL:https://www.ausl.bologna.it/eventi/archivio/auslevent.2022-05-04.63444
 23302
END:VEVENT
END:VCALENDAR
