BEGIN:VCALENDAR
VERSION:2.0
PRODID:-//Plone.org//NONSGML plone.app.event//EN
X-WR-TIMEZONE:Europe/Rome
BEGIN:VEVENT
SUMMARY:La sindrome delle corde linfatiche
DTSTART;VALUE=DATE-TIME:20220505T153000Z
DTEND;VALUE=DATE-TIME:20220505T170000Z
DTSTAMP;VALUE=DATE-TIME:20260420T042154Z
UID:bc2f7257294eeb1a4e82e3ea7cb7a1e2@127.0.0.1:8095
ATTENDEE;CN="Monica Mastrullo, fisioterapista, si occupa di linfologia cio
 è del trattamento delle patologie del sistema linfatico e venoso";ROLE=R
 EQ-PARTICIPANT:Monica Mastrullo, fisioterapista, si occupa di linfologia c
 ioè del trattamento delle patologie del sistema linfatico e venoso
CATEGORIES:Incontri per la salute
CONTACT:0514966178 \, donnealcentro@komen.it
CREATED;VALUE=DATE-TIME:20220502T123344Z
DESCRIPTION:Il 5 maggio\, un appuntamento in presenza
LAST-MODIFIED;VALUE=DATE-TIME:20250107T140413Z
LOCATION:Spazio polifunzionale di Donne al Centro
URL:https://www.ausl.bologna.it/eventi/archivio/auslevent.2022-05-02.56411
 39219
END:VEVENT
END:VCALENDAR
