BEGIN:VCALENDAR
VERSION:2.0
PRODID:-//Plone.org//NONSGML plone.app.event//EN
X-WR-TIMEZONE:Europe/Rome
BEGIN:VEVENT
SUMMARY:Walking leader – All’interno di “Datti una Mossa”\, la cam
 pagna dell'AUSL di Bologna che promuove i corretti stili di vita
DTSTART;VALUE=DATE-TIME:20220506T070000Z
DTEND;VALUE=DATE-TIME:20220507T100000Z
DTSTAMP;VALUE=DATE-TIME:20260420T042156Z
UID:94f67ff013c6d67fd5e842a40759072c@127.0.0.1:8095
CATEGORIES:Evento formativo
CONTACT:Pietro Loro Pilone\, p.loropilone@ausl.bologna.it
CREATED;VALUE=DATE-TIME:20220411T122906Z
DESCRIPTION:Un evento formativo il 6 e 7 maggio
LAST-MODIFIED;VALUE=DATE-TIME:20250107T140413Z
LOCATION:Sala AVIS\, Bologna
URL:https://www.ausl.bologna.it/eventi/archivio/auslevent.2022-04-11.64097
 84596
END:VEVENT
END:VCALENDAR
