BEGIN:VCALENDAR
VERSION:2.0
PRODID:-//Plone.org//NONSGML plone.app.event//EN
X-WR-TIMEZONE:Europe/Rome
BEGIN:VEVENT
SUMMARY:Gestione della protesi mammaria
DTSTART;VALUE=DATE-TIME:20220420T153000Z
DTEND;VALUE=DATE-TIME:20220420T170000Z
DTSTAMP;VALUE=DATE-TIME:20260420T042157Z
UID:c1183fd5a0d6eaf011bc5f7fe993afac@127.0.0.1:8095
ATTENDEE;CN="Silvia Dallavalle";ROLE=REQ-PARTICIPANT:Silvia Dallavalle
CATEGORIES:Giornata di prevenzione
CONTACT:0514966178\, donnealcentro@komen.it
CREATED;VALUE=DATE-TIME:20220407T085619Z
DESCRIPTION:Un evento in presenza e in webinar. Nell'ambito di “Donne al
  Centro”\, per favorire un ruolo attivo nel processo di guarigione e rec
 upero del benessere psicofisico durante e dopo i trattamenti oncologici
LAST-MODIFIED;VALUE=DATE-TIME:20250107T140413Z
LOCATION:In presenza e in webinar
URL:https://www.ausl.bologna.it/eventi/archivio/auslevent.2022-04-07.52999
 39340
END:VEVENT
END:VCALENDAR
