BEGIN:VCALENDAR
VERSION:2.0
PRODID:-//Plone.org//NONSGML plone.app.event//EN
X-WR-TIMEZONE:Europe/Rome
BEGIN:VEVENT
SUMMARY:Donne\, lavoro empowerment 
DTSTART;VALUE=DATE-TIME:20220512T130000Z
DTEND;VALUE=DATE-TIME:20220512T150000Z
DTSTAMP;VALUE=DATE-TIME:20260420T031111Z
UID:ca1f5ba5a30dae1ebf1f9fea97fc75a2@127.0.0.1:8095
CATEGORIES:Webinar
CREATED;VALUE=DATE-TIME:20220407T083434Z
DESCRIPTION:Un webinar riservato ai dipendenti Aziende Sanitarie Bolognesi
LAST-MODIFIED;VALUE=DATE-TIME:20250107T140413Z
LOCATION:Webinar
URL:https://www.ausl.bologna.it/eventi/archivio/auslevent.2022-04-07.37544
 66952
END:VEVENT
END:VCALENDAR
