BEGIN:VCALENDAR
VERSION:2.0
PRODID:-//Plone.org//NONSGML plone.app.event//EN
X-WR-TIMEZONE:Europe/Rome
BEGIN:VEVENT
SUMMARY:Prendersi cura dell'arte. Prendersi cura di sé
DTSTART;VALUE=DATE-TIME:20181006T070000Z
DTEND;VALUE=DATE-TIME:20181007T163000Z
DTSTAMP;VALUE=DATE-TIME:20260420T031024Z
UID:53247c3cf0e912973b70d4bcd9dda4ec@127.0.0.1:8095
CONTACT:Concetta Pietrobattista\, c.pietrobattista@ausl.bologna.it
CREATED;VALUE=DATE-TIME:20180717T083530Z
DESCRIPTION:Un convegno nell'ambito del 3° Festival dell’Outsider Art e
  dell’Arte Irregolare
LAST-MODIFIED;VALUE=DATE-TIME:20180919T124034Z
LOCATION:Gubbio (PG)\, Libera università di Alcatraz
URL:https://www.ausl.bologna.it/eventi/archivio/auslevent.2018-07-17.96734
 77029
END:VEVENT
END:VCALENDAR
