BEGIN:VCALENDAR
VERSION:2.0
PRODID:-//Plone.org//NONSGML plone.app.event//EN
X-WR-TIMEZONE:Europe/Rome
BEGIN:VEVENT
SUMMARY:Zanzara tigre e altri insetti\, pericoli pubblici. Conoscili\, pro
 teggiti\, previeni
DTSTART;VALUE=DATE-TIME:20180719T183000Z
DTEND;VALUE=DATE-TIME:20180719T203000Z
DTSTAMP;VALUE=DATE-TIME:20260420T031024Z
UID:c3c4ba751159b3b90c96bed6d389cb4b@127.0.0.1:8095
CATEGORIES:Incontri per la salute
CREATED;VALUE=DATE-TIME:20180713T140320Z
DESCRIPTION:Un incontro di informazione ai cittadini a cura della Casa del
 la Salute di Budrio
LAST-MODIFIED;VALUE=DATE-TIME:20180828T104031Z
LOCATION:Malalbergo\, Auditorium di Altedo\, Via Minghetti 9
URL:https://www.ausl.bologna.it/eventi/archivio/auslevent.2018-07-13.43897
 14819
END:VEVENT
END:VCALENDAR
