BEGIN:VCALENDAR
VERSION:2.0
PRODID:-//Plone.org//NONSGML plone.app.event//EN
X-WR-TIMEZONE:Europe/Rome
BEGIN:VEVENT
SUMMARY:Meno sale più salute... Cominciamo dal pane
DTSTART;VALUE=DATE-TIME:20180714T160000Z
DTEND;VALUE=DATE-TIME:20180714T180000Z
DTSTAMP;VALUE=DATE-TIME:20260420T031024Z
UID:cd7d772a656d9a8152b0efbced159de8@127.0.0.1:8095
CREATED;VALUE=DATE-TIME:20180706T073409Z
DESCRIPTION:Alla Festa della "batdura" a Loiano\, in collaborazione con il
  Comune di Loiano e l'Associazione Panificatori della Provincia di Bologna
LAST-MODIFIED;VALUE=DATE-TIME:20180828T104030Z
LOCATION:Loiano\, Festa D'la Batdura
URL:https://www.ausl.bologna.it/eventi/archivio/auslevent.2018-07-06.34647
 24288
END:VEVENT
END:VCALENDAR
