BEGIN:VCALENDAR
VERSION:2.0
PRODID:-//Plone.org//NONSGML plone.app.event//EN
X-WR-TIMEZONE:Europe/Rome
BEGIN:VEVENT
SUMMARY:Prevenzione: Quando iniziare?
DTSTART;VALUE=DATE-TIME:20180622T190000Z
DTEND;VALUE=DATE-TIME:20180622T210000Z
DTSTAMP;VALUE=DATE-TIME:20260420T125446Z
UID:ba686ef35777f50664392449926eb0cf@127.0.0.1:8095
CATEGORIES:Conferenza gratuita
CONTACT:Associazione ONLUS Dipetto\, 370 3045798
CREATED;VALUE=DATE-TIME:20180607T095825Z
DESCRIPTION:Conferenza per la promozione della salute femminile al Teatro 
 Comunale di San Giovanni in Persiceto
LAST-MODIFIED;VALUE=DATE-TIME:20180702T114706Z
LOCATION:San Giovanni in Persiceto\, Teatro Comunale
URL:https://www.ausl.bologna.it/eventi/archivio/auslevent.2018-06-07.40726
 92741
END:VEVENT
END:VCALENDAR
