BEGIN:VCALENDAR
VERSION:2.0
PRODID:-//Plone.org//NONSGML plone.app.event//EN
X-WR-TIMEZONE:Europe/Rome
BEGIN:VEVENT
SUMMARY:Aspettando la carovana della prevenzione
DTSTART;VALUE=DATE-TIME:20180615T160000Z
DTEND;VALUE=DATE-TIME:20180615T170000Z
DTSTAMP;VALUE=DATE-TIME:20260420T080217Z
UID:acc2c94c4aca22261a892c0950365400@127.0.0.1:8095
CATEGORIES:Presentazione
CREATED;VALUE=DATE-TIME:20180607T094122Z
DESCRIPTION:Incontro pubblico di presentazione del programma nazionale int
 inerante di promozione della salute femminile
LAST-MODIFIED;VALUE=DATE-TIME:20180702T114700Z
LOCATION:San Giovanni in Persiceto\, Sala consiliare del Municipio Piazza 
 del Popolo 1
URL:https://www.ausl.bologna.it/eventi/archivio/auslevent.2018-06-07.32462
 14212
END:VEVENT
END:VCALENDAR
