BEGIN:VCALENDAR
VERSION:2.0
PRODID:-//Plone.org//NONSGML plone.app.event//EN
X-WR-TIMEZONE:Europe/Rome
BEGIN:VEVENT
SUMMARY:Il Bianco e il Nero\, percorsi di cura possibili?
DTSTART;VALUE=DATE-TIME:20180516T161000Z
DTEND;VALUE=DATE-TIME:20180516T182000Z
DTSTAMP;VALUE=DATE-TIME:20260420T165036Z
UID:20595623354b150145180e6090905bc9@127.0.0.1:8095
CATEGORIES:Incontro con l'autore
CONTACT:Rita Lambertini\, 333.6834242\, r.lambertini@ausl.bologna.it
CREATED;VALUE=DATE-TIME:20180510T101751Z
DESCRIPTION:Presentazione del libro Il bianco e il nero. Esperienze di etn
 opsichiatria nel servizio pubblico.\nNell’ambito del MAGGIO DEI LIBRI di
  Casalecchio di Reno
LAST-MODIFIED;VALUE=DATE-TIME:20180706T065825Z
LOCATION:Casa della Conoscenza\, Piazza delle Culture\, Casalecchio di Ren
 o
URL:https://www.ausl.bologna.it/eventi/archivio/auslevent.2018-05-10.81116
 65222
END:VEVENT
END:VCALENDAR
