BEGIN:VCALENDAR
VERSION:2.0
PRODID:-//Plone.org//NONSGML plone.app.event//EN
X-WR-TIMEZONE:Europe/Rome
BEGIN:VEVENT
SUMMARY:Insetti utili. Anche a tavola?
DTSTART;VALUE=DATE-TIME:20180508T150000Z
DTEND;VALUE=DATE-TIME:20180508T170000Z
DTSTAMP;VALUE=DATE-TIME:20260420T075556Z
UID:de8e8f6a568c5d2e87454d5a7ed9a19f@127.0.0.1:8095
CATEGORIES:Incontro formativo
CREATED;VALUE=DATE-TIME:20180503T102307Z
DESCRIPTION:Novità normative\, sviluppi imprenditoriali\, aspetti nutrizi
 onali e ricadute ambientali dell'uso alimentare di insetti. Rassegna di in
 contri Edu-care. Educare alla salute dell'uomo\, degli animali e del piane
 ta
LAST-MODIFIED;VALUE=DATE-TIME:20180518T063152Z
LOCATION:Fondazione FICO\, spazio n°118 FICO Eataly World\, via Paolo Can
 ali\, 8 - Bologna
URL:https://www.ausl.bologna.it/eventi/archivio/auslevent.2018-05-03.71473
 17240
END:VEVENT
END:VCALENDAR
