BEGIN:VCALENDAR
VERSION:2.0
PRODID:-//Plone.org//NONSGML plone.app.event//EN
X-WR-TIMEZONE:Europe/Rome
BEGIN:VEVENT
SUMMARY:Malattie da vettori: la situazione nella AUSL di Bologna
DTSTART;VALUE=DATE-TIME:20180507T063000Z
DTEND;VALUE=DATE-TIME:20180507T153000Z
DTSTAMP;VALUE=DATE-TIME:20260420T044528Z
UID:81d5830c8db47bab65caee92cff469a5@127.0.0.1:8095
ATTENDEE;CN="Assistenti sanitari, Biologi, Infermieri, Medici, Veterinari,
  Tecnici della prevenzione";ROLE=REQ-PARTICIPANT:Assistenti sanitari, Biol
 ogi, Infermieri, Medici, Veterinari, Tecnici della prevenzione
CATEGORIES:Workshop
CONTACT:Rosa Domina - Daniela Guidetti\, daniela.guidetti@ausl.bologna.it
CREATED;VALUE=DATE-TIME:20180417T125157Z
LAST-MODIFIED;VALUE=DATE-TIME:20180518T062814Z
LOCATION:AULA MAGNA Ospedale Maggiore di Bologna
URL:https://www.ausl.bologna.it/eventi/archivio/auslevent.2018-04-17.36788
 44010
END:VEVENT
END:VCALENDAR
