BEGIN:VCALENDAR
VERSION:2.0
PRODID:-//Plone.org//NONSGML plone.app.event//EN
X-WR-TIMEZONE:Europe/Rome
BEGIN:VEVENT
SUMMARY:La sclerosi multipla è donna
DTSTART;VALUE=DATE-TIME:20180418T153000Z
DTEND;VALUE=DATE-TIME:20180418T170000Z
DTSTAMP;VALUE=DATE-TIME:20260420T045714Z
UID:fadb14b1b559d1ed860222f951bf4209@127.0.0.1:8095
CREATED;VALUE=DATE-TIME:20180413T114910Z
LAST-MODIFIED;VALUE=DATE-TIME:20180518T062810Z
LOCATION:Casa dei Risvegli | Aula Grande Ospedale Bellaria\, via Altura 3\
 , Bologna
URL:https://www.ausl.bologna.it/eventi/archivio/auslevent.2018-04-13.95066
 78163
END:VEVENT
END:VCALENDAR
