BEGIN:VCALENDAR
VERSION:2.0
PRODID:-//Plone.org//NONSGML plone.app.event//EN
X-WR-TIMEZONE:Europe/Rome
BEGIN:VEVENT
SUMMARY:L’epilessia nella donna: età fertile\, gravidanza e menopausa
DTSTART;VALUE=DATE-TIME:20180421T080000Z
DTEND;VALUE=DATE-TIME:20180421T103000Z
DTSTAMP;VALUE=DATE-TIME:20260420T044611Z
UID:78610526e8692d90776e6f261c6c35d9@127.0.0.1:8095
ATTENDEE;CN="Barbara Mostacci, neurologa ISNB - Marinella Lenzi, ginecolog
 a Ospedale Maggiore";ROLE=REQ-PARTICIPANT:Barbara Mostacci, neurologa ISNB
  - Marinella Lenzi, ginecologa Ospedale Maggiore
CREATED;VALUE=DATE-TIME:20180413T114439Z
LAST-MODIFIED;VALUE=DATE-TIME:20180518T062809Z
LOCATION:ISNB\, Padiglione G dell’Ospedale Bellaria\, Aula B\, primo pia
 no\, via Altura 1/8\, Bologna
URL:https://www.ausl.bologna.it/eventi/archivio/auslevent.2018-04-13.66921
 07286
END:VEVENT
END:VCALENDAR
