BEGIN:VCALENDAR
VERSION:2.0
PRODID:-//Plone.org//NONSGML plone.app.event//EN
X-WR-TIMEZONE:Europe/Rome
BEGIN:VEVENT
SUMMARY:La rete dei tumori rari cerebrali in Emilia Romagna: modelli regio
 nali ed europei
DTSTART;VALUE=DATE-TIME:20180413T123000Z
DTEND;VALUE=DATE-TIME:20180413T163000Z
DTSTAMP;VALUE=DATE-TIME:20260420T044602Z
UID:834fd8c58d13fd7301893af294193db3@127.0.0.1:8095
CATEGORIES:Workshop
CREATED;VALUE=DATE-TIME:20180412T095302Z
DESCRIPTION:Workshop
LAST-MODIFIED;VALUE=DATE-TIME:20180518T062807Z
LOCATION:Bologna\, Royal Hotel Carlton\, Via Montebello
URL:https://www.ausl.bologna.it/eventi/archivio/auslevent.2018-04-12.64116
 08748
END:VEVENT
END:VCALENDAR
