BEGIN:VCALENDAR
VERSION:2.0
PRODID:-//Plone.org//NONSGML plone.app.event//EN
X-WR-TIMEZONE:Europe/Rome
BEGIN:VEVENT
SUMMARY:Promuovere la cultura della mutualità per favorire la nascita di 
 gruppi nel territorio
DTSTART;VALUE=DATE-TIME:20180510T063000Z
DTEND;VALUE=DATE-TIME:20180511T153000Z
DTSTAMP;VALUE=DATE-TIME:20260420T044610Z
UID:501f593753f094abde0572109a4d3ad9@127.0.0.1:8095
CATEGORIES:Corso di formazione
CONTACT:Coordinamento progetto “Rete dei Gruppi di Auto Mutuo Aiuto\, Ar
 ea Metropolitana “ Ausl di Bologna\, 051 6584267\, gruppi.ama@ausl.bolog
 na.it
CREATED;VALUE=DATE-TIME:20180412T100751Z
DESCRIPTION:Evento formativo indirizzato a tutte le persone interessate al
 la metodologia dell’Auto Mutuo Aiuto che intendano attivarsi per promuov
 ere iniziative che responsabilizzino la propria comunità e impegnarsi nel
 la promozione locale di nuove esperienze di Auto Mutuo Aiuto
LAST-MODIFIED;VALUE=DATE-TIME:20180518T062809Z
LOCATION:Casalecchio di Reno\, Casa della Salute
URL:https://www.ausl.bologna.it/eventi/archivio/auslevent.2018-04-12.50500
 73884
END:VEVENT
END:VCALENDAR
