BEGIN:VCALENDAR
VERSION:2.0
PRODID:-//Plone.org//NONSGML plone.app.event//EN
X-WR-TIMEZONE:Europe/Rome
BEGIN:VEVENT
SUMMARY:e-Health e Innovazione in Sanità: dal FSE alle App nelle sfide pe
 r i prossimi 5 anni
DTSTART;VALUE=DATE-TIME:20180414T063000Z
DTEND;VALUE=DATE-TIME:20180414T113000Z
DTSTAMP;VALUE=DATE-TIME:20260420T044657Z
UID:ebf9e9652d5e9c83c21a24b9634c49ba@127.0.0.1:8095
CREATED;VALUE=DATE-TIME:20180409T073920Z
LAST-MODIFIED;VALUE=DATE-TIME:20180518T062805Z
LOCATION:Sala conferenze dell’Ordine dei Medici Chirurghi e Odontoiatri 
 di Bologna Via G. Zaccherini-Alvisi 4 – Bologna
URL:https://www.ausl.bologna.it/eventi/archivio/auslevent.2018-04-09.42159
 65692
END:VEVENT
END:VCALENDAR
