BEGIN:VCALENDAR
VERSION:2.0
PRODID:-//Plone.org//NONSGML plone.app.event//EN
X-WR-TIMEZONE:Europe/Rome
BEGIN:VEVENT
SUMMARY:Concerto per due violini
DTSTART;VALUE=DATE-TIME:20180413T140000Z
DTEND;VALUE=DATE-TIME:20180413T153000Z
DTSTAMP;VALUE=DATE-TIME:20260420T044657Z
UID:08cceeacfe6cac68376d15b256e7e6a0@127.0.0.1:8095
CREATED;VALUE=DATE-TIME:20180406T081737Z
DESCRIPTION:Un'iniziativa della Fondazione Hospice MT Chiantore Seragnoli
LAST-MODIFIED;VALUE=DATE-TIME:20180518T062804Z
LOCATION:Ospedale Bellaria\, Padiglione Tinozzi\, via Altura 3 - Bologna
URL:https://www.ausl.bologna.it/eventi/archivio/auslevent.2018-04-06.27979
 04768
END:VEVENT
END:VCALENDAR
