BEGIN:VCALENDAR
VERSION:2.0
PRODID:-//Plone.org//NONSGML plone.app.event//EN
X-WR-TIMEZONE:Europe/Rome
BEGIN:VEVENT
SUMMARY:Terapia della Sclerosi Multipla
DTSTART;VALUE=DATE-TIME:20180410T130000Z
DTEND;VALUE=DATE-TIME:20180410T150000Z
DTSTAMP;VALUE=DATE-TIME:20260420T044539Z
UID:0dec2d119c8119bbb7685f46123641b2@127.0.0.1:8095
ATTENDEE;CN="Alessandra Lugaresi, UOSI Riabilitazione Sclerosi Multipla de
 ll’IRCCS– ISNB";ROLE=REQ-PARTICIPANT:Alessandra Lugaresi, UOSI Riabili
 tazione Sclerosi Multipla dell’IRCCS– ISNB
CONTACT:Antonella Ferretti\, 051-4966207\, antonella.ferretti@ausl.bo.it
CREATED;VALUE=DATE-TIME:20180404T092510Z
DESCRIPTION:L’ISNB dedica alcuni martedì del mese alla discussione dell
 e più recenti evidenze scientifiche nell’ambito delle Neuroscienze
LAST-MODIFIED;VALUE=DATE-TIME:20180518T062802Z
LOCATION:Ospedale Bellaria\, via Altura 1/8 - Bologna Pad. G – 1° piano
URL:https://www.ausl.bologna.it/eventi/archivio/auslevent.2018-04-04.67105
 56788
END:VEVENT
END:VCALENDAR
