BEGIN:VCALENDAR
VERSION:2.0
PRODID:-//Plone.org//NONSGML plone.app.event//EN
X-WR-TIMEZONE:Europe/Rome
BEGIN:VEVENT
SUMMARY:External Hydrocephalus after brain injury
DTSTART;VALUE=DATE-TIME:20180417T130000Z
DTEND;VALUE=DATE-TIME:20180417T150000Z
DTSTAMP;VALUE=DATE-TIME:20260420T044539Z
UID:c0c2d3b124940054c14c08dd1e44a9d9@127.0.0.1:8095
ATTENDEE;CN="Romain Manet, Dipartimento di Neurochirurgia, Università di 
 Sant Etienne,";ROLE=REQ-PARTICIPANT:Romain Manet, Dipartimento di Neurochi
 rurgia, Università di Sant Etienne,
ATTENDEE;CN="Servizio di Neurochirurgia ospedale Nord di Sant Etienne, Fra
 ncia.";ROLE=REQ-PARTICIPANT:Servizio di Neurochirurgia ospedale Nord di Sa
 nt Etienne, Francia.
CONTACT: Antonella Ferretti\, 051-4966207\, antonella.ferretti@ausl.bo.it
CREATED;VALUE=DATE-TIME:20180404T093043Z
DESCRIPTION:L’ISNB dedica alcuni martedì del mese alla discussione dell
 e più recenti evidenze scientifiche nell’ambito delle Neuroscienze
LAST-MODIFIED;VALUE=DATE-TIME:20180518T062803Z
LOCATION:Ospedale Bellaria\, via Altura 1/8 - Bologna Pad. G – 1° piano
URL:https://www.ausl.bologna.it/eventi/archivio/auslevent.2018-04-04.09983
 18928
END:VEVENT
END:VCALENDAR
