BEGIN:VCALENDAR
VERSION:2.0
PRODID:-//Plone.org//NONSGML plone.app.event//EN
X-WR-TIMEZONE:Europe/Rome
BEGIN:VEVENT
SUMMARY:L’ozonoterapia e il rachide nel 2018
DTSTART;VALUE=DATE-TIME:20180409T070000Z
DTEND;VALUE=DATE-TIME:20180409T143000Z
DTSTAMP;VALUE=DATE-TIME:20260420T044611Z
UID:c8ed7f7025ff4b65f109c6b8e74a6581@127.0.0.1:8095
ATTENDEE;CN="Luigi Cirillo, ISNB";ROLE=REQ-PARTICIPANT:Luigi Cirillo, ISNB
CREATED;VALUE=DATE-TIME:20180403T114545Z
DESCRIPTION:In memoria di Marco Leonardi
LAST-MODIFIED;VALUE=DATE-TIME:20180518T062801Z
LOCATION:Aula Ruggiero\, Padiglione A - Ospedale Bellaria via Altura 3\, B
 ologna
URL:https://www.ausl.bologna.it/eventi/archivio/auslevent.2018-04-03.76580
 11595
END:VEVENT
END:VCALENDAR
