BEGIN:VCALENDAR
VERSION:2.0
PRODID:-//Plone.org//NONSGML plone.app.event//EN
X-WR-TIMEZONE:Europe/Rome
BEGIN:VEVENT
SUMMARY:Corso Walking Leader 2018
DTSTART;VALUE=DATE-TIME:20180511T110000Z
DTEND;VALUE=DATE-TIME:20180511T173000Z
DTSTAMP;VALUE=DATE-TIME:20260420T044611Z
UID:2ef0113541271175e55c5baf0608f865@127.0.0.1:8095
ATTENDEE;CN="Operatori sanitari, cittadini, laureandi/laureati in scienze 
 motorie";ROLE=REQ-PARTICIPANT:Operatori sanitari, cittadini, laureandi/lau
 reati in scienze motorie
CONTACT:Muriel Assunta Musti\, 051 2869397\, murielassunta.musti@ausl.bolo
 gna.it
CREATED;VALUE=DATE-TIME:20180329T110947Z
LAST-MODIFIED;VALUE=DATE-TIME:20180518T062758Z
LOCATION:Sala Polivalente della Casa della salute Navile\, Via Domenico Sv
 ampa 8\, Bologna
URL:https://www.ausl.bologna.it/eventi/archivio/auslevent.2018-03-29.62106
 03139
END:VEVENT
END:VCALENDAR
