BEGIN:VCALENDAR
VERSION:2.0
PRODID:-//Plone.org//NONSGML plone.app.event//EN
X-WR-TIMEZONE:Europe/Rome
BEGIN:VEVENT
SUMMARY:Laboratorio didattico intensivo “Igiene delle mani”
DTSTART;VALUE=DATE-TIME:20180409T070000Z
DTEND;VALUE=DATE-TIME:20180409T120000Z
DTSTAMP;VALUE=DATE-TIME:20260420T044725Z
UID:b88cd13ba76781df941fdff628de1837@127.0.0.1:8095
CATEGORIES:Laboratorio didattico
CREATED;VALUE=DATE-TIME:20180323T123102Z
DESCRIPTION:Strutture Socio Sanitarie Residenziali del Territorio dell’A
 USL di Bologna\n
LAST-MODIFIED;VALUE=DATE-TIME:20180518T062754Z
LOCATION:Aula A Sede Ausl Bologna\, Via Cimarosa - Casalecchio di Reno
URL:https://www.ausl.bologna.it/eventi/archivio/auslevent.2018-03-23.63987
 30800
END:VEVENT
END:VCALENDAR
