BEGIN:VCALENDAR
VERSION:2.0
PRODID:-//Plone.org//NONSGML plone.app.event//EN
X-WR-TIMEZONE:Europe/Rome
BEGIN:VEVENT
SUMMARY:Laboratorio didattico intensivo “Igiene delle mani”
DTSTART;VALUE=DATE-TIME:20180410T070000Z
DTEND;VALUE=DATE-TIME:20180410T120000Z
DTSTAMP;VALUE=DATE-TIME:20260420T044657Z
UID:25092cca4a710a23c6b3cfd7ca8aec25@127.0.0.1:8095
CATEGORIES:Laboratorio didattico
CREATED;VALUE=DATE-TIME:20180323T131024Z
DESCRIPTION:Strutture Socio Sanitarie Residenziali del Territorio dell’A
 USL di Bologna 
LAST-MODIFIED;VALUE=DATE-TIME:20180518T062755Z
LOCATION:Aula Magna Ospedale Bellaria - Via Altura\, 3 - Bologna 
URL:https://www.ausl.bologna.it/eventi/archivio/auslevent.2018-03-23.46194
 30743
END:VEVENT
END:VCALENDAR
