BEGIN:VCALENDAR
VERSION:2.0
PRODID:-//Plone.org//NONSGML plone.app.event//EN
X-WR-TIMEZONE:Europe/Rome
BEGIN:VEVENT
SUMMARY:FAUNA SELVATICA: competenze dei Servizi veterinari
DTSTART;VALUE=DATE-TIME:20180514T063000Z
DTEND;VALUE=DATE-TIME:20180514T140000Z
DTSTAMP;VALUE=DATE-TIME:20260420T044657Z
UID:cfecc8ec8fe607636b1a0acdd1ddde99@127.0.0.1:8095
ATTENDEE;CN="Veterinari, Tecnici della prevenzione, IZS, R.E.R., A.T.C.,";
 ROLE=REQ-PARTICIPANT:Veterinari, Tecnici della prevenzione, IZS, R.E.R., A
 .T.C.,
CONTACT:Rosa Domina - Daniela Guidetti\, daniela.guidetti@ausl.bologna.it
CREATED;VALUE=DATE-TIME:20180323T142802Z
LAST-MODIFIED;VALUE=DATE-TIME:20180518T062757Z
LOCATION:Aula A- piano seminterrato - Via Cimarosa 5/2 Casalecchio di Reno
  (BO) 
URL:https://www.ausl.bologna.it/eventi/archivio/auslevent.2018-03-23.01052
 90240
END:VEVENT
END:VCALENDAR
