BEGIN:VCALENDAR
VERSION:2.0
PRODID:-//Plone.org//NONSGML plone.app.event//EN
X-WR-TIMEZONE:Europe/Rome
BEGIN:VEVENT
SUMMARY:Lezione informativa sulle manovre di disostruzione\, primo soccors
 o e sonno sicuro 
DTSTART;VALUE=DATE-TIME:20180324T090000Z
DTEND;VALUE=DATE-TIME:20180324T113000Z
DTSTAMP;VALUE=DATE-TIME:20260420T044611Z
UID:178ac6480ff50567ed6d1b8e745b207a@127.0.0.1:8095
CONTACT:info@lequercedi.it
CREATED;VALUE=DATE-TIME:20180320T154715Z
DESCRIPTION:Alla Casa della Salute di Casalecchio 
LAST-MODIFIED;VALUE=DATE-TIME:20180518T062753Z
LOCATION:Casa della Salute di Casalecchio 
URL:https://www.ausl.bologna.it/eventi/archivio/auslevent.2018-03-20.54256
 85906
END:VEVENT
END:VCALENDAR
