BEGIN:VCALENDAR
VERSION:2.0
PRODID:-//Plone.org//NONSGML plone.app.event//EN
X-WR-TIMEZONE:Europe/Rome
BEGIN:VEVENT
SUMMARY:Leishmania tra Uomo e Cane
DTSTART;VALUE=DATE-TIME:20180327T184500Z
DTEND;VALUE=DATE-TIME:20180327T200000Z
DTSTAMP;VALUE=DATE-TIME:20260420T044601Z
UID:9f0b1b7e5f2de5db698fbbc9d61bf5cc@127.0.0.1:8095
ATTENDEE;CN=Cittadini;ROLE=REQ-PARTICIPANT:Cittadini
CREATED;VALUE=DATE-TIME:20180319T095822Z
DESCRIPTION:Serata dedicata alla delicata tematica della leishmaniosi e de
 l possibile contagio uomo animale 
LAST-MODIFIED;VALUE=DATE-TIME:20180518T062436Z
LOCATION:Sala Conferenze - Centro San Teodoro - Via Abbazia\, Monteveglio
URL:https://www.ausl.bologna.it/eventi/archivio/auslevent.2018-03-19.60360
 63149
END:VEVENT
END:VCALENDAR
