BEGIN:VCALENDAR
VERSION:2.0
PRODID:-//Plone.org//NONSGML plone.app.event//EN
X-WR-TIMEZONE:Europe/Rome
BEGIN:VEVENT
SUMMARY:Premio Eleonora Cantamessa V^ edizione
DTSTART;VALUE=DATE-TIME:20180315T230000Z
DTEND;VALUE=DATE-TIME:20180330T220000Z
DTSTAMP;VALUE=DATE-TIME:20260420T045020Z
UID:7ba560cb705a17909d7f510d8e9d9ddf@127.0.0.1:8095
CREATED;VALUE=DATE-TIME:20180316T114140Z
LAST-MODIFIED;VALUE=DATE-TIME:20180518T062435Z
URL:https://www.ausl.bologna.it/eventi/archivio/auslevent.2018-03-16.22811
 90046
END:VEVENT
END:VCALENDAR
