BEGIN:VCALENDAR
VERSION:2.0
PRODID:-//Plone.org//NONSGML plone.app.event//EN
X-WR-TIMEZONE:Europe/Rome
BEGIN:VEVENT
SUMMARY:Topics on Rectal Surgery 
DTSTART;VALUE=DATE-TIME:20180406T080000Z
DTEND;VALUE=DATE-TIME:20180406T143000Z
DTSTAMP;VALUE=DATE-TIME:20260420T044657Z
UID:f840ef20345d5f18ea600a6164a97119@127.0.0.1:8095
CATEGORIES:Consensus Conference
CONTACT:051/0395400
CREATED;VALUE=DATE-TIME:20180315T162923Z
DESCRIPTION:Nuove vie per la cura delle malattie oncologiche e funzionali 
 del pavimento pelvico
LAST-MODIFIED;VALUE=DATE-TIME:20180518T062434Z
LOCATION:Salone dei Carracci\, Confcommercio Ascom Bologna - Strada Maggio
 re\, 23 - Bologna 
URL:https://www.ausl.bologna.it/eventi/archivio/auslevent.2018-03-15.99172
 79659
END:VEVENT
END:VCALENDAR
