BEGIN:VCALENDAR
VERSION:2.0
PRODID:-//Plone.org//NONSGML plone.app.event//EN
X-WR-TIMEZONE:Europe/Rome
BEGIN:VEVENT
SUMMARY:“L'impatto del gioco d'azzardo in Italia”
DTSTART;VALUE=DATE-TIME:20180406T110000Z
DTEND;VALUE=DATE-TIME:20180406T150000Z
DTSTAMP;VALUE=DATE-TIME:20260420T045714Z
UID:efc7e2ff7bb998f34fdba56bd6b889c5@127.0.0.1:8095
ATTENDEE;CN="Il Convegno è rivolto a studenti universitari e ad operatori
  delle dipendenze";ROLE=REQ-PARTICIPANT:Il Convegno è rivolto a studenti 
 universitari e ad operatori delle dipendenze
CATEGORIES:Convegno
CONTACT:051/6584313
CREATED;VALUE=DATE-TIME:20180314T142917Z
DESCRIPTION:Presentazione del numero speciale di PRISMA\n\n
LAST-MODIFIED;VALUE=DATE-TIME:20180518T062433Z
LOCATION:Aula Zam 2\, Via Zamboni\, 32 - Bologna - Dipartimento di Scienze
  Dell'Educazione "Giovanni Maria Bertin"
URL:https://www.ausl.bologna.it/eventi/archivio/auslevent.2018-03-14.45005
 25026
END:VEVENT
END:VCALENDAR
