BEGIN:VCALENDAR
VERSION:2.0
PRODID:-//Plone.org//NONSGML plone.app.event//EN
X-WR-TIMEZONE:Europe/Rome
BEGIN:VEVENT
SUMMARY:12° up to date - Gestione clinica del paziente con tumore ipofisa
 rio
DTSTART;VALUE=DATE-TIME:20180504T111500Z
DTEND;VALUE=DATE-TIME:20180505T103000Z
DTSTAMP;VALUE=DATE-TIME:20260420T045731Z
UID:7d2a804a291e234b21c5744230988fb2@127.0.0.1:8095
ATTENDEE;CN="Marco Faustini Fustini, Giorgio Frank - ISNB";ROLE=REQ-PARTIC
 IPANT:Marco Faustini Fustini, Giorgio Frank - ISNB
CREATED;VALUE=DATE-TIME:20180314T092457Z
DESCRIPTION:Corso ISNB
LAST-MODIFIED;VALUE=DATE-TIME:20180518T062432Z
LOCATION:Relais Bellaria Hotel & Congressi\, Via Altura\, 11/bis Bologna
URL:https://www.ausl.bologna.it/eventi/archivio/auslevent.2018-03-14.28379
 58246
END:VEVENT
END:VCALENDAR
