BEGIN:VCALENDAR
VERSION:2.0
PRODID:-//Plone.org//NONSGML plone.app.event//EN
X-WR-TIMEZONE:Europe/Rome
BEGIN:VEVENT
SUMMARY:Gli accessi al pronto soccorso per intossicazioni alcoliche acute
DTSTART;VALUE=DATE-TIME:20180420T070000Z
DTEND;VALUE=DATE-TIME:20180420T120000Z
DTSTAMP;VALUE=DATE-TIME:20260420T045714Z
UID:bc40841ec7fa8131b9999eae38635808@127.0.0.1:8095
CATEGORIES:Seminario
CREATED;VALUE=DATE-TIME:20180313T135537Z
LAST-MODIFIED;VALUE=DATE-TIME:20180518T062429Z
LOCATION:Sala 417/C\, Regione Emilia Romagna\, Via A. Moro\, 21 - Bologna
URL:https://www.ausl.bologna.it/eventi/archivio/auslevent.2018-03-13.56583
 23392
END:VEVENT
END:VCALENDAR
