BEGIN:VCALENDAR
VERSION:2.0
PRODID:-//Plone.org//NONSGML plone.app.event//EN
X-WR-TIMEZONE:Europe/Rome
BEGIN:VEVENT
SUMMARY:Pubblici spettacoli: sicurezza nelle fasi di montaggio e smontaggi
 o
DTSTART;VALUE=DATE-TIME:20180314T080000Z
DTEND;VALUE=DATE-TIME:20180314T153000Z
DTSTAMP;VALUE=DATE-TIME:20260420T044539Z
UID:a4754c68c6762c8d501a977a1455bd61@127.0.0.1:8095
ATTENDEE;CN="Tecnici della Prevenzione, Medici, Ingegneri, Chimici e altre
  professionalità appartenenti alle Unità Operative PSAL delle AUSL della
  Regione Emilia-Romagna";ROLE=REQ-PARTICIPANT:Tecnici della Prevenzione, M
 edici, Ingegneri, Chimici e altre professionalità appartenenti alle Unit
 à Operative PSAL delle AUSL della Regione Emilia-Romagna
CONTACT:Rossella Zappoli e Luisa Stanghellini\, segreteria.uopsalcentro@au
 sl.bologna.it
CREATED;VALUE=DATE-TIME:20180312T100320Z
DESCRIPTION:Corso di formazione
LAST-MODIFIED;VALUE=DATE-TIME:20180518T062428Z
LOCATION:AULA MAGNA Ospedale Maggiore di Bologna
URL:https://www.ausl.bologna.it/eventi/archivio/auslevent.2018-03-12.71032
 57309
END:VEVENT
END:VCALENDAR
