BEGIN:VCALENDAR
VERSION:2.0
PRODID:-//Plone.org//NONSGML plone.app.event//EN
X-WR-TIMEZONE:Europe/Rome
BEGIN:VEVENT
SUMMARY:"Binge drinking: valutare la prevenzione” Promuovere l'uso respo
 nsabile dell'alcol e approcci di riduzione del danno I risultati del proge
 tto europeo Allcool
DTSTART;VALUE=DATE-TIME:20180417T110000Z
DTEND;VALUE=DATE-TIME:20180417T150000Z
DTSTAMP;VALUE=DATE-TIME:20260420T044610Z
UID:c42eb57da540e1eabd262cc496f6c09b@127.0.0.1:8095
CATEGORIES:Forum consultivo
CONTACT:051/6584313
CREATED;VALUE=DATE-TIME:20180309T130037Z
DESCRIPTION:Forum consultivo aperto alla cittadinanza
LAST-MODIFIED;VALUE=DATE-TIME:20180518T062426Z
LOCATION:Aula Magna Regione Emilia Romagna\, Via A. Moro\, 30 - Bologna
URL:https://www.ausl.bologna.it/eventi/archivio/auslevent.2018-03-09.65969
 87206
END:VEVENT
END:VCALENDAR
