BEGIN:VCALENDAR
VERSION:2.0
PRODID:-//Plone.org//NONSGML plone.app.event//EN
X-WR-TIMEZONE:Europe/Rome
BEGIN:VEVENT
SUMMARY:L’ospedale di Bentivoglio nella rete territoriale e ospedaliera 
 metropolitana
DTSTART;VALUE=DATE-TIME:20180312T194500Z
DTEND;VALUE=DATE-TIME:20180312T220000Z
DTSTAMP;VALUE=DATE-TIME:20260420T045731Z
UID:ad639e3b5d49dc277aaf365eba5d0a24@127.0.0.1:8095
CATEGORIES:Incontro pubblico
CREATED;VALUE=DATE-TIME:20180308T095444Z
DESCRIPTION:Investimenti\, stato dell'arte e prospettive. Lunedì 12 marzo
  2018 ore 20.45\, a Bentivoglio\, incontro con la cittadinanza presso il C
 entro culturale Te:Ze\, via Berlinguer 7
LAST-MODIFIED;VALUE=DATE-TIME:20180518T062423Z
LOCATION:Bentivoglio\, Centro culturale Te:Ze
URL:https://www.ausl.bologna.it/eventi/archivio/auslevent.2018-03-08.77536
 50374
END:VEVENT
END:VCALENDAR
