BEGIN:VCALENDAR
VERSION:2.0
PRODID:-//Plone.org//NONSGML plone.app.event//EN
X-WR-TIMEZONE:Europe/Rome
BEGIN:VEVENT
SUMMARY:Seconda Giornata delle Malattie Neuromuscolari. Punto di ascolto a
 ll'ISNB
DTSTART;VALUE=DATE-TIME:20180309T133000Z
DTEND;VALUE=DATE-TIME:20180309T163000Z
DTSTAMP;VALUE=DATE-TIME:20260420T044601Z
UID:4d69bff61169abf75fc2c5c6b3ca40f0@127.0.0.1:8095
CONTACT:Sig.ra Natalia Miccoli\, 051-266013\, info@uildmbo.org
CREATED;VALUE=DATE-TIME:20180308T093551Z
DESCRIPTION:Tre neurologi e un neuropsichiatra infantile a disposizione de
 i cittadini
LAST-MODIFIED;VALUE=DATE-TIME:20180518T062422Z
LOCATION:Day Hospital\, Padiglione F\, Ospedale Bellaria - via Altura 3\, 
 Bologna
URL:https://www.ausl.bologna.it/eventi/archivio/auslevent.2018-03-08.10321
 10073
END:VEVENT
END:VCALENDAR
