BEGIN:VCALENDAR
VERSION:2.0
PRODID:-//Plone.org//NONSGML plone.app.event//EN
X-WR-TIMEZONE:Europe/Rome
BEGIN:VEVENT
SUMMARY:La preservazione della fertilità. La maternità dopo la diagnosi 
 di tumore 
DTSTART;VALUE=DATE-TIME:20180412T063000Z
DTEND;VALUE=DATE-TIME:20180412T140000Z
DTSTAMP;VALUE=DATE-TIME:20260420T045732Z
UID:72d192becb767d4a4b073a5d15b9c02f@127.0.0.1:8095
ATTENDEE;CN="Informazioni sull'iscrizione, nel programma allegato";ROLE=RE
 Q-PARTICIPANT:Informazioni sull'iscrizione, nel programma allegato
CATEGORIES:Seminario
CREATED;VALUE=DATE-TIME:20180307T120332Z
DESCRIPTION:Le persone dimenticheranno cosa hai detto\, dimenticheranno co
 sa hai fatto\,  \nma le persone non dimenticheranno mai come le hai fatte 
 sentire (Jason Barger)
LAST-MODIFIED;VALUE=DATE-TIME:20180518T062420Z
LOCATION:Palazzo Bellini  Comacchio – Ferrara 
URL:https://www.ausl.bologna.it/eventi/archivio/auslevent.2018-03-07.94487
 37187
END:VEVENT
END:VCALENDAR
