BEGIN:VCALENDAR
VERSION:2.0
PRODID:-//Plone.org//NONSGML plone.app.event//EN
X-WR-TIMEZONE:Europe/Rome
BEGIN:VEVENT
SUMMARY:Giornata nazionale FADOI-ANIMO per il fine vita – Emilia Romagna
DTSTART;VALUE=DATE-TIME:20180407T063000Z
DTEND;VALUE=DATE-TIME:20180407T144500Z
DTSTAMP;VALUE=DATE-TIME:20260420T044601Z
UID:ae02c119586914aca2fa2aae3dbee098@127.0.0.1:8095
CATEGORIES:Convegno
CONTACT:Planning congressi \, 051 300100 int. 133
CREATED;VALUE=DATE-TIME:20180306T165117Z
DESCRIPTION:Con il Patrocinio del Ministero della Salute 
LAST-MODIFIED;VALUE=DATE-TIME:20180518T062419Z
LOCATION:Bologna - Aula Magna della Regione\, Viale Aldo Moro\, 30 
URL:https://www.ausl.bologna.it/eventi/archivio/auslevent.2018-03-06.76306
 47102
END:VEVENT
END:VCALENDAR
