BEGIN:VCALENDAR
VERSION:2.0
PRODID:-//Plone.org//NONSGML plone.app.event//EN
X-WR-TIMEZONE:Europe/Rome
BEGIN:VEVENT
SUMMARY:GMN2018. Giornata Malattie Neuromuscolari 2018
DTSTART;VALUE=DATE-TIME:20180310T073000Z
DTEND;VALUE=DATE-TIME:20180310T120000Z
DTSTAMP;VALUE=DATE-TIME:20260420T045714Z
UID:d4fec79705fce07f00f49b02d9b538cd@127.0.0.1:8095
ATTENDEE;CN="Rocco Liguori, Antonella Pini - ISNB";ROLE=REQ-PARTICIPANT:Ro
 cco Liguori, Antonella Pini - ISNB
CREATED;VALUE=DATE-TIME:20180305T091824Z
DESCRIPTION:Sabato 10 marzo
LAST-MODIFIED;VALUE=DATE-TIME:20180518T062417Z
LOCATION:Aula Magna\, Padiglione Tinozzi - Ospedale Bellaria\, via Altura 
 3 Bologna
URL:https://www.ausl.bologna.it/eventi/archivio/auslevent.2018-03-05.26612
 61096
END:VEVENT
END:VCALENDAR
