BEGIN:VCALENDAR
VERSION:2.0
PRODID:-//Plone.org//NONSGML plone.app.event//EN
X-WR-TIMEZONE:Europe/Rome
BEGIN:VEVENT
SUMMARY:L'uomo vitruviano di Leonardo da Vinci\, architettura o anatomia?
DTSTART;VALUE=DATE-TIME:20180327T130000Z
DTEND;VALUE=DATE-TIME:20180327T150000Z
DTSTAMP;VALUE=DATE-TIME:20260420T045732Z
UID:aab43b1d9ff830e85546962457ec1a24@127.0.0.1:8095
ATTENDEE;CN="Marco Gaiani, Dipartimento di Architettura dell'Università d
 i Bologna";ROLE=REQ-PARTICIPANT:Marco Gaiani, Dipartimento di Architettura
  dell'Università di Bologna
CONTACT:Antonella Ferretti\, 051-4966207\, antonella.ferretti@ausl.bo.it
CREATED;VALUE=DATE-TIME:20180227T145035Z
DESCRIPTION:L’ISNB dedica alcuni martedì del mese alla discussione dell
 e più recenti evidenze scientifiche nell’ambito delle Neuroscienze
LAST-MODIFIED;VALUE=DATE-TIME:20180518T062416Z
LOCATION:Ospedale Bellaria\, via Altura 1/8 - Bologna (Pad. G – 1° pian
 o)
URL:https://www.ausl.bologna.it/eventi/archivio/auslevent.2018-02-27.84635
 47612
END:VEVENT
END:VCALENDAR
