BEGIN:VCALENDAR
VERSION:2.0
PRODID:-//Plone.org//NONSGML plone.app.event//EN
X-WR-TIMEZONE:Europe/Rome
BEGIN:VEVENT
SUMMARY:La salute delle celebrità: quando il mito si scontra con la natur
 a umana
DTSTART;VALUE=DATE-TIME:20180323T200000Z
DTEND;VALUE=DATE-TIME:20180323T220000Z
DTSTAMP;VALUE=DATE-TIME:20260420T045714Z
UID:bf9e2c41d1b7453ced37b34162120e1c@127.0.0.1:8095
CATEGORIES:Conferenza
CREATED;VALUE=DATE-TIME:20180227T140557Z
DESCRIPTION:Conferenza del Dott. Giovanni Pollini\, specialista in medicin
 a interna
LAST-MODIFIED;VALUE=DATE-TIME:20180518T062413Z
LOCATION:Casa della Conoscenza\, Via Porrettana 360\, Casalecchio di Reno 
 (Bo)
URL:https://www.ausl.bologna.it/eventi/archivio/auslevent.2018-02-27.73827
 15409
END:VEVENT
END:VCALENDAR
