BEGIN:VCALENDAR
VERSION:2.0
PRODID:-//Plone.org//NONSGML plone.app.event//EN
X-WR-TIMEZONE:Europe/Rome
BEGIN:VEVENT
SUMMARY:Le crisi psicogene non epilettiche e la diagnosi differenziale con
  le crisi epilettiche
DTSTART;VALUE=DATE-TIME:20180306T140000Z
DTEND;VALUE=DATE-TIME:20180306T160000Z
DTSTAMP;VALUE=DATE-TIME:20260420T044611Z
UID:6623ace98c00627a7c5b31421aed2a5c@127.0.0.1:8095
ATTENDEE;CN="Barbara Mostacci, Paolo Tinuper - Clinica Neurologica ISNB";R
 OLE=REQ-PARTICIPANT:Barbara Mostacci, Paolo Tinuper - Clinica Neurologica 
 ISNB
CONTACT:Antonella Ferretti\, 051-4966207\, antonella.ferretti@ausl.bo.it
CREATED;VALUE=DATE-TIME:20180227T143347Z
DESCRIPTION:I medici dell’ISNB discutono dei casi clinici complessi e de
 i percorsi diagnostico terapeutici assistenziali (PDTA)
LAST-MODIFIED;VALUE=DATE-TIME:20180518T062414Z
LOCATION:Ospedale Bellaria\, via Altura 1/8 - Bologna (Pad. G – 1° pian
 o)
URL:https://www.ausl.bologna.it/eventi/archivio/auslevent.2018-02-27.62635
 36407
END:VEVENT
END:VCALENDAR
